BEGIN:VCALENDAR
VERSION:2.0
PRODID:-//Minnesota North Area Al-Anon Family Groups - ECPv6.15.17.1//NONSGML v1.0//EN
CALSCALE:GREGORIAN
METHOD:PUBLISH
X-WR-CALNAME:Minnesota North Area Al-Anon Family Groups
X-ORIGINAL-URL:https://minnesotanorth-al-anon.org
X-WR-CALDESC:Events for Minnesota North Area Al-Anon Family Groups
REFRESH-INTERVAL;VALUE=DURATION:PT1H
X-Robots-Tag:noindex
X-PUBLISHED-TTL:PT1H
BEGIN:VTIMEZONE
TZID:America/Chicago
BEGIN:DAYLIGHT
TZOFFSETFROM:-0600
TZOFFSETTO:-0500
TZNAME:CDT
DTSTART:20250309T080000
END:DAYLIGHT
BEGIN:STANDARD
TZOFFSETFROM:-0500
TZOFFSETTO:-0600
TZNAME:CST
DTSTART:20251102T070000
END:STANDARD
BEGIN:DAYLIGHT
TZOFFSETFROM:-0600
TZOFFSETTO:-0500
TZNAME:CDT
DTSTART:20260308T080000
END:DAYLIGHT
BEGIN:STANDARD
TZOFFSETFROM:-0500
TZOFFSETTO:-0600
TZNAME:CST
DTSTART:20261101T070000
END:STANDARD
BEGIN:DAYLIGHT
TZOFFSETFROM:-0600
TZOFFSETTO:-0500
TZNAME:CDT
DTSTART:20270314T080000
END:DAYLIGHT
BEGIN:STANDARD
TZOFFSETFROM:-0500
TZOFFSETTO:-0600
TZNAME:CST
DTSTART:20271107T070000
END:STANDARD
END:VTIMEZONE
BEGIN:VEVENT
DTSTART;TZID=America/Chicago:20260626T120000
DTEND;TZID=America/Chicago:20260626T220000
DTSTAMP:20260422T033657
CREATED:20260306T134159Z
LAST-MODIFIED:20260306T135259Z
UID:10113450-1782475200-1782511200@minnesotanorth-al-anon.org
SUMMARY:13th Annual 3 Legacy Campout June 26-28
DESCRIPTION:Annual 3 Legacy Campout\nClick the link for times\, events and cost.
URL:https://minnesotanorth-al-anon.org/meetings-events/13th-annual-3-legacy-campout/
LOCATION:Crow Wing River Campout\, 281 Morrison Street E\, Motely\, MN\, 56466\, United States
CATEGORIES:Al-Anon Events
END:VEVENT
END:VCALENDAR